BEGIN:VCALENDAR
VERSION:2.0
PRODID:-//Leonardo&#039;s Basement - ECPv6.15.13.1//NONSGML v1.0//EN
CALSCALE:GREGORIAN
METHOD:PUBLISH
X-WR-CALNAME:Leonardo&#039;s Basement
X-ORIGINAL-URL:https://leonardosbasement.org
X-WR-CALDESC:Events for Leonardo&#039;s Basement
REFRESH-INTERVAL;VALUE=DURATION:PT1H
X-Robots-Tag:noindex
X-PUBLISHED-TTL:PT1H
BEGIN:VTIMEZONE
TZID:America/New_York
BEGIN:DAYLIGHT
TZOFFSETFROM:-0500
TZOFFSETTO:-0400
TZNAME:EDT
DTSTART:20200308T070000
END:DAYLIGHT
BEGIN:STANDARD
TZOFFSETFROM:-0400
TZOFFSETTO:-0500
TZNAME:EST
DTSTART:20201101T060000
END:STANDARD
BEGIN:DAYLIGHT
TZOFFSETFROM:-0500
TZOFFSETTO:-0400
TZNAME:EDT
DTSTART:20210314T070000
END:DAYLIGHT
BEGIN:STANDARD
TZOFFSETFROM:-0400
TZOFFSETTO:-0500
TZNAME:EST
DTSTART:20211107T060000
END:STANDARD
BEGIN:DAYLIGHT
TZOFFSETFROM:-0500
TZOFFSETTO:-0400
TZNAME:EDT
DTSTART:20220313T070000
END:DAYLIGHT
BEGIN:STANDARD
TZOFFSETFROM:-0400
TZOFFSETTO:-0500
TZNAME:EST
DTSTART:20221106T060000
END:STANDARD
END:VTIMEZONE
BEGIN:VEVENT
DTSTART;TZID=America/New_York:20211022T093000
DTEND;TZID=America/New_York:20211022T150000
DTSTAMP:20260423T073032
CREATED:20210925T200238Z
LAST-MODIFIED:20210925T200238Z
UID:10000713-1634895000-1634914800@leonardosbasement.org
SUMMARY:Creativity Convention
DESCRIPTION:Build what YOU want project building in areas of : engineering\, design\, art and building. Work with tons of cool materials\, like: wood\, metal\, plastic\, junk\, toys\, electronics\, beads\, fabric & wire (plus saws\, drills\, hot glue\, hammers\, solder & more)! \nAges 6-16 \n$85/day ($40/day scholarship rate) \nhttps://leonardosbasement.asapconnected.com/#CourseID=258564
URL:https://leonardosbasement.org/event/creativity-convention-2/2021-10-22/
LOCATION:Leonardo’s Basement
END:VEVENT
END:VCALENDAR