BEGIN:VCALENDAR
VERSION:2.0
PRODID:-//Leonardo&#039;s Basement - ECPv6.15.13.1//NONSGML v1.0//EN
CALSCALE:GREGORIAN
METHOD:PUBLISH
X-WR-CALNAME:Leonardo&#039;s Basement
X-ORIGINAL-URL:https://leonardosbasement.org
X-WR-CALDESC:Events for Leonardo&#039;s Basement
REFRESH-INTERVAL;VALUE=DURATION:PT1H
X-Robots-Tag:noindex
X-PUBLISHED-TTL:PT1H
BEGIN:VTIMEZONE
TZID:America/New_York
BEGIN:DAYLIGHT
TZOFFSETFROM:-0500
TZOFFSETTO:-0400
TZNAME:EDT
DTSTART:20200308T070000
END:DAYLIGHT
BEGIN:STANDARD
TZOFFSETFROM:-0400
TZOFFSETTO:-0500
TZNAME:EST
DTSTART:20201101T060000
END:STANDARD
BEGIN:DAYLIGHT
TZOFFSETFROM:-0500
TZOFFSETTO:-0400
TZNAME:EDT
DTSTART:20210314T070000
END:DAYLIGHT
BEGIN:STANDARD
TZOFFSETFROM:-0400
TZOFFSETTO:-0500
TZNAME:EST
DTSTART:20211107T060000
END:STANDARD
BEGIN:DAYLIGHT
TZOFFSETFROM:-0500
TZOFFSETTO:-0400
TZNAME:EDT
DTSTART:20220313T070000
END:DAYLIGHT
BEGIN:STANDARD
TZOFFSETFROM:-0400
TZOFFSETTO:-0500
TZNAME:EST
DTSTART:20221106T060000
END:STANDARD
END:VTIMEZONE
BEGIN:VEVENT
DTSTART;TZID=America/New_York:20211106T103000
DTEND;TZID=America/New_York:20211106T120000
DTSTAMP:20260423T092419
CREATED:20210925T194546Z
LAST-MODIFIED:20210925T194546Z
UID:10000689-1636194600-1636200000@leonardosbasement.org
SUMMARY:Saturday Adventure Playground
DESCRIPTION:The outdoor yard at Leonardo’s Basement is a perfect play and build area. We will provide a broad assortment of building materials and tools and supervision while you and your friends build shared projects and create your own fun. \nCost: $20 ($10 scholarship rate) per person \nAges 6-15 \nhttps://leonardosbasement.asapconnected.com/#CourseID=258562
URL:https://leonardosbasement.org/event/saturday-adventure-playground/2021-11-06/
LOCATION:Leonardo’s Basement
END:VEVENT
END:VCALENDAR