BEGIN:VCALENDAR
VERSION:2.0
PRODID:-//Leonardo&#039;s Basement - ECPv6.15.13.1//NONSGML v1.0//EN
CALSCALE:GREGORIAN
METHOD:PUBLISH
X-WR-CALNAME:Leonardo&#039;s Basement
X-ORIGINAL-URL:https://leonardosbasement.org
X-WR-CALDESC:Events for Leonardo&#039;s Basement
REFRESH-INTERVAL;VALUE=DURATION:PT1H
X-Robots-Tag:noindex
X-PUBLISHED-TTL:PT1H
BEGIN:VTIMEZONE
TZID:America/New_York
BEGIN:DAYLIGHT
TZOFFSETFROM:-0500
TZOFFSETTO:-0400
TZNAME:EDT
DTSTART:20210314T070000
END:DAYLIGHT
BEGIN:STANDARD
TZOFFSETFROM:-0400
TZOFFSETTO:-0500
TZNAME:EST
DTSTART:20211107T060000
END:STANDARD
BEGIN:DAYLIGHT
TZOFFSETFROM:-0500
TZOFFSETTO:-0400
TZNAME:EDT
DTSTART:20220313T070000
END:DAYLIGHT
BEGIN:STANDARD
TZOFFSETFROM:-0400
TZOFFSETTO:-0500
TZNAME:EST
DTSTART:20221106T060000
END:STANDARD
BEGIN:DAYLIGHT
TZOFFSETFROM:-0500
TZOFFSETTO:-0400
TZNAME:EDT
DTSTART:20230312T070000
END:DAYLIGHT
BEGIN:STANDARD
TZOFFSETFROM:-0400
TZOFFSETTO:-0500
TZNAME:EST
DTSTART:20231105T060000
END:STANDARD
END:VTIMEZONE
BEGIN:VEVENT
DTSTART;VALUE=DATE:20221105
DTEND;VALUE=DATE:20221106
DTSTAMP:20260424T074549
CREATED:20220922T140826Z
LAST-MODIFIED:20220922T140826Z
UID:10000503-1667606400-1667692799@leonardosbasement.org
SUMMARY:Basement and Dragons
DESCRIPTION:Create characters\, roll the dice and venture into lands uncharted! Join your fellow builders in an epic Dungeons and Dragons game; perhaps paint a model\, stitch a bag for your polyhedral dice and see where your quest takes you. \nAges 12-17 \nRegistration is for a pair of D&D dates. \nhttps://leonardosbasement.asapconnected.com/#CourseID=276634
URL:https://leonardosbasement.org/event/basement-and-dragons/
END:VEVENT
END:VCALENDAR