BEGIN:VCALENDAR
VERSION:2.0
PRODID:-//Leonardo&#039;s Basement - ECPv6.15.13.1//NONSGML v1.0//EN
CALSCALE:GREGORIAN
METHOD:PUBLISH
X-WR-CALNAME:Leonardo&#039;s Basement
X-ORIGINAL-URL:https://leonardosbasement.org
X-WR-CALDESC:Events for Leonardo&#039;s Basement
REFRESH-INTERVAL;VALUE=DURATION:PT1H
X-Robots-Tag:noindex
X-PUBLISHED-TTL:PT1H
BEGIN:VTIMEZONE
TZID:America/New_York
BEGIN:DAYLIGHT
TZOFFSETFROM:-0500
TZOFFSETTO:-0400
TZNAME:EDT
DTSTART:20210314T070000
END:DAYLIGHT
BEGIN:STANDARD
TZOFFSETFROM:-0400
TZOFFSETTO:-0500
TZNAME:EST
DTSTART:20211107T060000
END:STANDARD
BEGIN:DAYLIGHT
TZOFFSETFROM:-0500
TZOFFSETTO:-0400
TZNAME:EDT
DTSTART:20220313T070000
END:DAYLIGHT
BEGIN:STANDARD
TZOFFSETFROM:-0400
TZOFFSETTO:-0500
TZNAME:EST
DTSTART:20221106T060000
END:STANDARD
BEGIN:DAYLIGHT
TZOFFSETFROM:-0500
TZOFFSETTO:-0400
TZNAME:EDT
DTSTART:20230312T070000
END:DAYLIGHT
BEGIN:STANDARD
TZOFFSETFROM:-0400
TZOFFSETTO:-0500
TZNAME:EST
DTSTART:20231105T060000
END:STANDARD
END:VTIMEZONE
BEGIN:VEVENT
DTSTART;VALUE=DATE:20221112
DTEND;VALUE=DATE:20221113
DTSTAMP:20260424T090443
CREATED:20220922T140957Z
LAST-MODIFIED:20220922T140957Z
UID:10000504-1668211200-1668297599@leonardosbasement.org
SUMMARY:Basements and Dragons
DESCRIPTION:Create characters\, roll the dice and venture into lands uncharted! Join your fellow builders in an epic Dungeons and Dragons game; perhaps paint a model\, stitch a bag for your polyhedral dice and see where your quest takes you. \nAges 12-17 \nRegistration is for a pair of D&D dates. \nhttps://leonardosbasement.asapconnected.com/#CourseID=276634
URL:https://leonardosbasement.org/event/basements-and-dragons-2/
END:VEVENT
BEGIN:VEVENT
DTSTART;TZID=America/New_York:20221112T103000
DTEND;TZID=America/New_York:20221112T120000
DTSTAMP:20260424T090443
CREATED:20220919T134135Z
LAST-MODIFIED:20220919T134135Z
UID:10000754-1668249000-1668254400@leonardosbasement.org
SUMMARY:Build What You Want
DESCRIPTION:
URL:https://leonardosbasement.org/event/build-what-you-want-3/
END:VEVENT
BEGIN:VEVENT
DTSTART;TZID=America/New_York:20221112T120000
DTEND;TZID=America/New_York:20221112T160000
DTSTAMP:20260424T090443
CREATED:20220919T133816Z
LAST-MODIFIED:20220919T133816Z
UID:10000753-1668254400-1668268800@leonardosbasement.org
SUMMARY:Teen Welding
DESCRIPTION:For new and experienced welders who: Want to make a sculpture or make something practical or learn how to fasten pieces of metal\, simply because it’s FUN! \nAges 14 – 18 \nhttps://leonardosbasement.asapconnected.com/#CourseID=276626
URL:https://leonardosbasement.org/event/teen-welding-5/
END:VEVENT
END:VCALENDAR