BEGIN:VCALENDAR
VERSION:2.0
PRODID:-//Leonardo&#039;s Basement - ECPv6.15.13.1//NONSGML v1.0//EN
CALSCALE:GREGORIAN
METHOD:PUBLISH
X-ORIGINAL-URL:https://leonardosbasement.org
X-WR-CALDESC:Events for Leonardo&#039;s Basement
REFRESH-INTERVAL;VALUE=DURATION:PT1H
X-Robots-Tag:noindex
X-PUBLISHED-TTL:PT1H
BEGIN:VTIMEZONE
TZID:America/New_York
BEGIN:DAYLIGHT
TZOFFSETFROM:-0500
TZOFFSETTO:-0400
TZNAME:EDT
DTSTART:20220313T070000
END:DAYLIGHT
BEGIN:STANDARD
TZOFFSETFROM:-0400
TZOFFSETTO:-0500
TZNAME:EST
DTSTART:20221106T060000
END:STANDARD
BEGIN:DAYLIGHT
TZOFFSETFROM:-0500
TZOFFSETTO:-0400
TZNAME:EDT
DTSTART:20230312T070000
END:DAYLIGHT
BEGIN:STANDARD
TZOFFSETFROM:-0400
TZOFFSETTO:-0500
TZNAME:EST
DTSTART:20231105T060000
END:STANDARD
BEGIN:DAYLIGHT
TZOFFSETFROM:-0500
TZOFFSETTO:-0400
TZNAME:EDT
DTSTART:20240310T070000
END:DAYLIGHT
BEGIN:STANDARD
TZOFFSETFROM:-0400
TZOFFSETTO:-0500
TZNAME:EST
DTSTART:20241103T060000
END:STANDARD
END:VTIMEZONE
BEGIN:VEVENT
DTSTART;TZID=America/New_York:20230121T103000
DTEND;TZID=America/New_York:20230121T120000
DTSTAMP:20260423T074014
CREATED:20221228T152427Z
LAST-MODIFIED:20221228T152427Z
UID:10000522-1674297000-1674302400@leonardosbasement.org
SUMMARY:Build What You Want
DESCRIPTION:Girls and boys ages 6-17 work with instructors and each other to build independent engineering\, art and technology projects.  Our workshop is loaded with tools and materials for you to build from your imagination! \nRegistration for one or more of the following Saturdays! \nJanuary 14 10:30 – noon \nJanuary 21 10:30-noon \n$20 per Saturday ($15 scholarship rate) \nhttps://leonardosbasement.asapconnected.com/#CourseID=280491
URL:https://leonardosbasement.org/event/build-what-you-want-6/
END:VEVENT
END:VCALENDAR