BEGIN:VCALENDAR
VERSION:2.0
PRODID:-//Leonardo&#039;s Basement - ECPv6.15.13.1//NONSGML v1.0//EN
CALSCALE:GREGORIAN
METHOD:PUBLISH
X-ORIGINAL-URL:https://leonardosbasement.org
X-WR-CALDESC:Events for Leonardo&#039;s Basement
REFRESH-INTERVAL;VALUE=DURATION:PT1H
X-Robots-Tag:noindex
X-PUBLISHED-TTL:PT1H
BEGIN:VTIMEZONE
TZID:America/New_York
BEGIN:DAYLIGHT
TZOFFSETFROM:-0500
TZOFFSETTO:-0400
TZNAME:EDT
DTSTART:20200308T070000
END:DAYLIGHT
BEGIN:STANDARD
TZOFFSETFROM:-0400
TZOFFSETTO:-0500
TZNAME:EST
DTSTART:20201101T060000
END:STANDARD
BEGIN:DAYLIGHT
TZOFFSETFROM:-0500
TZOFFSETTO:-0400
TZNAME:EDT
DTSTART:20210314T070000
END:DAYLIGHT
BEGIN:STANDARD
TZOFFSETFROM:-0400
TZOFFSETTO:-0500
TZNAME:EST
DTSTART:20211107T060000
END:STANDARD
BEGIN:DAYLIGHT
TZOFFSETFROM:-0500
TZOFFSETTO:-0400
TZNAME:EDT
DTSTART:20220313T070000
END:DAYLIGHT
BEGIN:STANDARD
TZOFFSETFROM:-0400
TZOFFSETTO:-0500
TZNAME:EST
DTSTART:20221106T060000
END:STANDARD
END:VTIMEZONE
BEGIN:VEVENT
DTSTART;TZID=America/New_York:20211104T180000
DTEND;TZID=America/New_York:20211104T210000
DTSTAMP:20260421T010551
CREATED:20210925T201757Z
LAST-MODIFIED:20220106T184446Z
UID:10000437-1636048800-1636059600@leonardosbasement.org
SUMMARY:Intro to Welding for Adults
DESCRIPTION:No experience required (but experienced welders welcome). Bring your own material or use stock that we have in the shop. \n6 person capacity \nAges 18+ \n$75.00 per day \nhttps://leonardosbasement.asapconnected.com/#Events
URL:https://leonardosbasement.org/event/intro-to-welding-for-adults/2021-11-04/
LOCATION:Leonardo’s Basement
END:VEVENT
BEGIN:VEVENT
DTSTART;TZID=America/New_York:20211105T120000
DTEND;TZID=America/New_York:20211105T140000
DTSTAMP:20260421T010551
CREATED:20210925T200742Z
LAST-MODIFIED:20210925T200742Z
UID:10000714-1636113600-1636120800@leonardosbasement.org
SUMMARY:One Time Build Workshop
DESCRIPTION:A variety of tools and materials are available for you to use to make projects to take home. You will be encouraged to take risks in the design and build process and to try new things.\nages 6-17\n $25/workshop ($15/workshop scholarship rate)\nhttps://leonardosbasement.asapconnected.com/#CourseID=258573
URL:https://leonardosbasement.org/event/one-time-build-workshop-2/2021-11-05/
LOCATION:Leonardo’s Basement
END:VEVENT
BEGIN:VEVENT
DTSTART;TZID=America/New_York:20211106T103000
DTEND;TZID=America/New_York:20211106T120000
DTSTAMP:20260421T010551
CREATED:20210925T194546Z
LAST-MODIFIED:20210925T194546Z
UID:10000689-1636194600-1636200000@leonardosbasement.org
SUMMARY:Saturday Adventure Playground
DESCRIPTION:The outdoor yard at Leonardo’s Basement is a perfect play and build area. We will provide a broad assortment of building materials and tools and supervision while you and your friends build shared projects and create your own fun. \nCost: $20 ($10 scholarship rate) per person \nAges 6-15 \nhttps://leonardosbasement.asapconnected.com/#CourseID=258562
URL:https://leonardosbasement.org/event/saturday-adventure-playground/2021-11-06/
LOCATION:Leonardo’s Basement
END:VEVENT
BEGIN:VEVENT
DTSTART;TZID=America/New_York:20211113T103000
DTEND;TZID=America/New_York:20211113T120000
DTSTAMP:20260421T010551
CREATED:20210925T194546Z
LAST-MODIFIED:20210925T194546Z
UID:10000690-1636799400-1636804800@leonardosbasement.org
SUMMARY:Saturday Adventure Playground
DESCRIPTION:The outdoor yard at Leonardo’s Basement is a perfect play and build area. We will provide a broad assortment of building materials and tools and supervision while you and your friends build shared projects and create your own fun. \nCost: $20 ($10 scholarship rate) per person \nAges 6-15 \nhttps://leonardosbasement.asapconnected.com/#CourseID=258562
URL:https://leonardosbasement.org/event/saturday-adventure-playground/2021-11-13/
LOCATION:Leonardo’s Basement
END:VEVENT
BEGIN:VEVENT
DTSTART;TZID=America/New_York:20211120T100000
DTEND;TZID=America/New_York:20211120T150000
DTSTAMP:20260421T010551
CREATED:20210925T201328Z
LAST-MODIFIED:20210925T201328Z
UID:10000718-1637402400-1637420400@leonardosbasement.org
SUMMARY:Saturday Teen Welding
DESCRIPTION:For new and experienced welders who: Want to make a sculpture or make something practical or learn how to fasten pieces of metal\, simply because it’s FUN! \nAges 14-17 \n$100 per day ($60 scholarship rate) \nhttps://leonardosbasement.asapconnected.com/#CourseID=258558
URL:https://leonardosbasement.org/event/saturday-teen-welding/2021-11-20/
LOCATION:Leonardo’s Basement
END:VEVENT
BEGIN:VEVENT
DTSTART;TZID=America/New_York:20211124T120000
DTEND;TZID=America/New_York:20211124T140000
DTSTAMP:20260421T010551
CREATED:20210925T200742Z
LAST-MODIFIED:20210925T200742Z
UID:10000715-1637755200-1637762400@leonardosbasement.org
SUMMARY:One Time Build Workshop
DESCRIPTION:A variety of tools and materials are available for you to use to make projects to take home. You will be encouraged to take risks in the design and build process and to try new things.\nages 6-17\n $25/workshop ($15/workshop scholarship rate)\nhttps://leonardosbasement.asapconnected.com/#CourseID=258573
URL:https://leonardosbasement.org/event/one-time-build-workshop-2/2021-11-24/
LOCATION:Leonardo’s Basement
END:VEVENT
BEGIN:VEVENT
DTSTART;TZID=America/New_York:20211126T120000
DTEND;TZID=America/New_York:20211126T140000
DTSTAMP:20260421T010551
CREATED:20210925T200742Z
LAST-MODIFIED:20210925T200742Z
UID:10000716-1637928000-1637935200@leonardosbasement.org
SUMMARY:One Time Build Workshop
DESCRIPTION:A variety of tools and materials are available for you to use to make projects to take home. You will be encouraged to take risks in the design and build process and to try new things.\nages 6-17\n $25/workshop ($15/workshop scholarship rate)\nhttps://leonardosbasement.asapconnected.com/#CourseID=258573
URL:https://leonardosbasement.org/event/one-time-build-workshop-2/2021-11-26/
LOCATION:Leonardo’s Basement
END:VEVENT
BEGIN:VEVENT
DTSTART;TZID=America/New_York:20211127T103000
DTEND;TZID=America/New_York:20211127T120000
DTSTAMP:20260421T010551
CREATED:20210925T194902Z
LAST-MODIFIED:20220106T184211Z
UID:10000692-1638009000-1638014400@leonardosbasement.org
SUMMARY:Saturday BWYW
DESCRIPTION:Kids ages 6-17 work with instructors and each other to build independent engineering\, art and technology projects.  Our workshop is loaded with tools and materials for you to build from your imagination! \n\n$20 per Saturday ($15 scholarship rate) \nhttps://leonardosbasement.asapconnected.com/#CourseID=258561
URL:https://leonardosbasement.org/event/saturday-bwyw/2021-11-27/
LOCATION:Leonardo’s Basement
END:VEVENT
END:VCALENDAR