BEGIN:VCALENDAR
VERSION:2.0
PRODID:-//Leonardo&#039;s Basement - ECPv6.15.13.1//NONSGML v1.0//EN
CALSCALE:GREGORIAN
METHOD:PUBLISH
X-WR-CALNAME:Leonardo&#039;s Basement
X-ORIGINAL-URL:https://leonardosbasement.org
X-WR-CALDESC:Events for Leonardo&#039;s Basement
REFRESH-INTERVAL;VALUE=DURATION:PT1H
X-Robots-Tag:noindex
X-PUBLISHED-TTL:PT1H
BEGIN:VTIMEZONE
TZID:America/New_York
BEGIN:DAYLIGHT
TZOFFSETFROM:-0500
TZOFFSETTO:-0400
TZNAME:EDT
DTSTART:20210314T070000
END:DAYLIGHT
BEGIN:STANDARD
TZOFFSETFROM:-0400
TZOFFSETTO:-0500
TZNAME:EST
DTSTART:20211107T060000
END:STANDARD
BEGIN:DAYLIGHT
TZOFFSETFROM:-0500
TZOFFSETTO:-0400
TZNAME:EDT
DTSTART:20220313T070000
END:DAYLIGHT
BEGIN:STANDARD
TZOFFSETFROM:-0400
TZOFFSETTO:-0500
TZNAME:EST
DTSTART:20221106T060000
END:STANDARD
BEGIN:DAYLIGHT
TZOFFSETFROM:-0500
TZOFFSETTO:-0400
TZNAME:EDT
DTSTART:20230312T070000
END:DAYLIGHT
BEGIN:STANDARD
TZOFFSETFROM:-0400
TZOFFSETTO:-0500
TZNAME:EST
DTSTART:20231105T060000
END:STANDARD
END:VTIMEZONE
BEGIN:VEVENT
DTSTART;TZID=America/New_York:20220401T093000
DTEND;TZID=America/New_York:20220401T150000
DTSTAMP:20260424T045229
CREATED:20210925T195726Z
LAST-MODIFIED:20220106T183833Z
UID:10000708-1648805400-1648825200@leonardosbasement.org
SUMMARY:All Day Design and Build Workshop
DESCRIPTION:Choose to work with wood\, metal\, plastic\, motors\, LED’s; fun new and repurposed building materials as you design and create projects to take home.\nWorkshops meet from 9:30 am – 3:00 pm each day.\nBring a lunch!\nAges 6-17\n\nhttps://leonardosbasement.asapconnected.com/#CourseID=258563
URL:https://leonardosbasement.org/event/all-day-design-and-build-workshop-2/2022-04-01/
LOCATION:Leonardo’s Basement
END:VEVENT
BEGIN:VEVENT
DTSTART;TZID=America/New_York:20220404T093000
DTEND;TZID=America/New_York:20220404T150000
DTSTAMP:20260424T045229
CREATED:20210925T195726Z
LAST-MODIFIED:20220106T183833Z
UID:10000709-1649064600-1649084400@leonardosbasement.org
SUMMARY:All Day Design and Build Workshop
DESCRIPTION:Choose to work with wood\, metal\, plastic\, motors\, LED’s; fun new and repurposed building materials as you design and create projects to take home.\nWorkshops meet from 9:30 am – 3:00 pm each day.\nBring a lunch!\nAges 6-17\n\nhttps://leonardosbasement.asapconnected.com/#CourseID=258563
URL:https://leonardosbasement.org/event/all-day-design-and-build-workshop-2/2022-04-04/
LOCATION:Leonardo’s Basement
END:VEVENT
BEGIN:VEVENT
DTSTART;TZID=America/New_York:20220405T093000
DTEND;TZID=America/New_York:20220405T150000
DTSTAMP:20260424T045229
CREATED:20210925T195726Z
LAST-MODIFIED:20220106T183833Z
UID:10000710-1649151000-1649170800@leonardosbasement.org
SUMMARY:All Day Design and Build Workshop
DESCRIPTION:Choose to work with wood\, metal\, plastic\, motors\, LED’s; fun new and repurposed building materials as you design and create projects to take home.\nWorkshops meet from 9:30 am – 3:00 pm each day.\nBring a lunch!\nAges 6-17\n\nhttps://leonardosbasement.asapconnected.com/#CourseID=258563
URL:https://leonardosbasement.org/event/all-day-design-and-build-workshop-2/2022-04-05/
LOCATION:Leonardo’s Basement
END:VEVENT
BEGIN:VEVENT
DTSTART;TZID=America/New_York:20220406T093000
DTEND;TZID=America/New_York:20220406T150000
DTSTAMP:20260424T045229
CREATED:20210925T195726Z
LAST-MODIFIED:20220106T183833Z
UID:10000711-1649237400-1649257200@leonardosbasement.org
SUMMARY:All Day Design and Build Workshop
DESCRIPTION:Choose to work with wood\, metal\, plastic\, motors\, LED’s; fun new and repurposed building materials as you design and create projects to take home.\nWorkshops meet from 9:30 am – 3:00 pm each day.\nBring a lunch!\nAges 6-17\n\nhttps://leonardosbasement.asapconnected.com/#CourseID=258563
URL:https://leonardosbasement.org/event/all-day-design-and-build-workshop-2/2022-04-06/
LOCATION:Leonardo’s Basement
END:VEVENT
BEGIN:VEVENT
DTSTART;TZID=America/New_York:20220423T103000
DTEND;TZID=America/New_York:20220423T120000
DTSTAMP:20260424T045229
CREATED:20220309T134611Z
LAST-MODIFIED:20220309T134611Z
UID:10000482-1650709800-1650715200@leonardosbasement.org
SUMMARY:Build What YOU Want
DESCRIPTION:Girls and boys ages 6-17 work with instructors and each other to build independent engineering\, art and technology projects.  Our workshop is loaded with tools and materials for you to build from your imagination! \nCome with an idea OR develop one once you’re here! \n$20 per Saturday ($15 scholarship rate) \nhttps://leonardosbasement.asapconnected.com/#CourseID=258561
URL:https://leonardosbasement.org/event/build-what-you-want/
END:VEVENT
BEGIN:VEVENT
DTSTART;TZID=America/New_York:20220430T103000
DTEND;TZID=America/New_York:20220430T120000
DTSTAMP:20260424T045229
CREATED:20220309T134727Z
LAST-MODIFIED:20220309T134727Z
UID:10000483-1651314600-1651320000@leonardosbasement.org
SUMMARY:Build What YOU Want
DESCRIPTION:Girls and boys ages 6-17 work with instructors and each other to build independent engineering\, art and technology projects.  Our workshop is loaded with tools and materials for you to build from your imagination! \nCome with an idea OR develop one once you’re here! \n$20 per Saturday ($15 scholarship rate) \nhttps://leonardosbasement.asapconnected.com/#CourseID=258561
URL:https://leonardosbasement.org/event/build-what-you-want-2/
END:VEVENT
END:VCALENDAR