BEGIN:VCALENDAR
VERSION:2.0
PRODID:-//Leonardo&#039;s Basement - ECPv6.15.13.1//NONSGML v1.0//EN
CALSCALE:GREGORIAN
METHOD:PUBLISH
X-WR-CALNAME:Leonardo&#039;s Basement
X-ORIGINAL-URL:https://leonardosbasement.org
X-WR-CALDESC:Events for Leonardo&#039;s Basement
REFRESH-INTERVAL;VALUE=DURATION:PT1H
X-Robots-Tag:noindex
X-PUBLISHED-TTL:PT1H
BEGIN:VTIMEZONE
TZID:America/New_York
BEGIN:DAYLIGHT
TZOFFSETFROM:-0500
TZOFFSETTO:-0400
TZNAME:EDT
DTSTART:20220313T070000
END:DAYLIGHT
BEGIN:STANDARD
TZOFFSETFROM:-0400
TZOFFSETTO:-0500
TZNAME:EST
DTSTART:20221106T060000
END:STANDARD
BEGIN:DAYLIGHT
TZOFFSETFROM:-0500
TZOFFSETTO:-0400
TZNAME:EDT
DTSTART:20230312T070000
END:DAYLIGHT
BEGIN:STANDARD
TZOFFSETFROM:-0400
TZOFFSETTO:-0500
TZNAME:EST
DTSTART:20231105T060000
END:STANDARD
BEGIN:DAYLIGHT
TZOFFSETFROM:-0500
TZOFFSETTO:-0400
TZNAME:EDT
DTSTART:20240310T070000
END:DAYLIGHT
BEGIN:STANDARD
TZOFFSETFROM:-0400
TZOFFSETTO:-0500
TZNAME:EST
DTSTART:20241103T060000
END:STANDARD
END:VTIMEZONE
BEGIN:VEVENT
DTSTART;TZID=America/New_York:20230114T103000
DTEND;TZID=America/New_York:20230114T120000
DTSTAMP:20260423T060830
CREATED:20221228T152239Z
LAST-MODIFIED:20221228T152239Z
UID:10000519-1673692200-1673697600@leonardosbasement.org
SUMMARY:Build What You Want
DESCRIPTION:Girls and boys ages 6-17 work with instructors and each other to build independent engineering\, art and technology projects.  Our workshop is loaded with tools and materials for you to build from your imagination! \nRegistration for one or more of the following Saturdays! \nJanuary 14 10:30 – noon \nJanuary 21 10:30-noon \n$20 per Saturday ($15 scholarship rate) \nhttps://leonardosbasement.asapconnected.com/#CourseID=280491 \n 
URL:https://leonardosbasement.org/event/build-what-you-want-5/
END:VEVENT
BEGIN:VEVENT
DTSTART;TZID=America/New_York:20230114T120000
DTEND;TZID=America/New_York:20230114T150000
DTSTAMP:20260423T060830
CREATED:20221219T133702Z
LAST-MODIFIED:20221219T133702Z
UID:10000518-1673697600-1673708400@leonardosbasement.org
SUMMARY:Family Build for Art Car and Contraptions Parade
DESCRIPTION:Every winter Art Shanties appear on icy Bde Uma (Lake Harriet) for four weekends in January and February. The structures are enriched by clever interactive experiences and playful performances\, including the Art Car Parade. \nWe want to help you join in the fun and are hosting a workshop for you to design and build creations for the “Wearable ArtCars and Contraptions Parade.” You’ll join other wacky creators on four Saturdays at 12:30 pm to strut your stuff. \nBuild your creation at home or bring your ideas and we’ll provide tools and materials for you to contrive your dream car\, car costume or contrivance. \nhttps://leonardosbasement.asapconnected.com/#EventDetail=279839 \nAges 5-105 \nAges 5-12 register with an adult  \nAges 13-105 can register independently
URL:https://leonardosbasement.org/event/family-build-for-art-car-and-contraptions-parade/
END:VEVENT
BEGIN:VEVENT
DTSTART;TZID=America/New_York:20230116T093000
DTEND;TZID=America/New_York:20230116T150000
DTSTAMP:20260423T060830
CREATED:20221228T152758Z
LAST-MODIFIED:20221228T152758Z
UID:10000757-1673861400-1673881200@leonardosbasement.org
SUMMARY:All Day Design and Build
DESCRIPTION:Choose to work with wood\, metal\, plastic\, motors\, old toys\, cardboard\, electronics\, and other fun new and repurposed building materials as you design and create projects to take home. Use a host of hand and power tools to build from your imagination! Make something for fun\, for a gift\, to learn a new skill\, or to complete a school project. \nBring a lunch! \nAges 6-17 \n$90 full day ($40 scholarship rate) \nhttps://leonardosbasement.asapconnected.com/#CourseID=276629
URL:https://leonardosbasement.org/event/all-day-design-and-build-9/
END:VEVENT
BEGIN:VEVENT
DTSTART;TZID=America/New_York:20230121T103000
DTEND;TZID=America/New_York:20230121T120000
DTSTAMP:20260423T060830
CREATED:20221228T152427Z
LAST-MODIFIED:20221228T152427Z
UID:10000522-1674297000-1674302400@leonardosbasement.org
SUMMARY:Build What You Want
DESCRIPTION:Girls and boys ages 6-17 work with instructors and each other to build independent engineering\, art and technology projects.  Our workshop is loaded with tools and materials for you to build from your imagination! \nRegistration for one or more of the following Saturdays! \nJanuary 14 10:30 – noon \nJanuary 21 10:30-noon \n$20 per Saturday ($15 scholarship rate) \nhttps://leonardosbasement.asapconnected.com/#CourseID=280491
URL:https://leonardosbasement.org/event/build-what-you-want-6/
END:VEVENT
END:VCALENDAR